BEGIN:VCALENDAR
VERSION:2.0
PRODID:icalendar-ruby
CALSCALE:GREGORIAN
METHOD:PUBLISH
BEGIN:VEVENT
DTSTAMP:20260423T224552Z
UID:7-276511@stpetershouse.ca
DTSTART:20261101T153000Z
DTEND:20261101T163000Z
CLASS:PUBLIC
CREATED:20260423T161035
DESCRIPTION:Join us each week at 10:30 AM for worship in the building and o
 nline on our Youtube Channel. Please check the home page of the website fo
 r the monthly list of services and when Holy Communion is being celebrated
 .
LAST-MODIFIED:20260423T161035
LOCATION:
SUMMARY:Sunday Worship
URL;VALUE=URI:https://stpetershouse.ca/events/sunday-worship/2026-11-01
ATTACH;FILENAME=Interior-front-crop2.jpg;FMTTYPE=image/jpeg:https://dq5pwpg
 1q8ru0.cloudfront.net/2022/02/19/19/11/00/966ff088-4717-4b58-8f1e-4e6f314b
 fb4a/Interior-front-crop2.jpg
END:VEVENT
END:VCALENDAR
